BEGIN:VCALENDAR
VERSION:2.0
PRODID:-//Tukios.com/
BEGIN:VEVENT
UID:51afbbb7-563a-4d2c-a346-7cc04127acb0@www.honoringmemoriesnowata.com
DTSTAMP:20260421T020041Z
DTSTART:20260424T190000Z
DTEND:20260424T200000Z
SUMMARY:Funeral Service
DESCRIPTION:
URL:https://www.honoringmemoriesnowata.com/obituaries/jerri-rae-sutherlin
LOCATION: 114 W Cherokee Ave  Nowata OK 74048
GEO:36.7006357;-95.6388533
END:VEVENT
END:VCALENDAR