BEGIN:VCALENDAR
VERSION:2.0
PRODID:-//Tukios.com/
BEGIN:VEVENT
UID:5f4e65bd-9c1a-4731-a73f-ad07bc005f20@www.honoringmemoriesnowata.com
DTSTAMP:20260421T020026Z
DTSTART:20260423T220000Z
DTEND:20260424T000000Z
SUMMARY:Visitation
DESCRIPTION:
URL:https://www.honoringmemoriesnowata.com/obituaries/jerri-rae-sutherlin
LOCATION: 114 W Cherokee Ave  Nowata OK 74048
GEO:36.7006357;-95.6388533
END:VEVENT
END:VCALENDAR